Workbook
Name Period: #REF!

Sheet Table of Contents
A1: The Corporation of the City of Kitchener
A2: Statement of Remuneration and Expenses
A3: For the year ended December 31, 2016
A6: Index | B6: Title | D6: Page
A8: Summary | B8: Summary Statement of Council Remuneration and Expenses | D8: 2
A10: Schedule 1 | B10: Statement of Remuneration | D10: 3
A12: Schedule 2 | B12: Conferences and Seminars | D12: 4
A14: Schedule 3 | B14: Meeting Expenses | D14: 5
A16: Schedule 4 | B16: Home Office and Technology Expenses | D16: 6
A18: Schedule 5 | B18: Members of Council - Directors of Kitchener-Wilmot Hydro Inc. | D18: 7
B19: and Kitchener Power Corp.
A21: Schedule 6 | B21: Honorariums of Council Appointees | D21: 8
B22: Committee of Adjustment
B23: Committee of Property Standards
B24: Committee of Dog Designation Appeal

Sheet Summary
A1: The Corporation of the City of Kitchener
A2: Summary Statement of Council Remuneration and Expenses
A3: For the year ended December 31, 2016
A6: Members of Council | C6: Remuneration | E6: Conferences & Seminars | G6: Meeting Expenses | I6: Home Office & Tech | K6: Community Events | M6: Automobile Expenses | O6: Subtotal | Q6: Check | S6: KW Hydro/ KPC | U6: Total
C7: Sch 1 | E7: Sch 2 | G7: Sch 3 | I7: Sch 4 | S7: Sch 5
A9: Mayor Berry Vrbanovic | C9: 93366 | E9: 1149.89 | G9: 8284.19 | I9: 1992 | K9: 865 | M9: 2663 | O9: 108320.08 | Q9: 93366 | R9: 0 | S9: 10470 | U9: 118790.08
A10: Councillor Scott Davey | C10: 48834 | E10: 2760.25 | I10: 1641 | K10: 709 | M10: 654 | O10: 54598.25 | Q10: 48834 | R10: 0 | U10: 54598.25
A11: Councillor Dave Schnider | C11: 47447 | I11: 1336 | K11: 563 | M11: 0 | O11: 49346 | Q11: 47447 | R11: 0 | U11: 49346
A12: Councillor John Gazzola | C12: 45818 | E12: 2474.62 | I12: 3131 | K12: 517 | M12: 1468 | O12: 53408.62 | Q12: 45818 | R12: 0 | U12: 53408.62
A13: Councillor Yvonne Fernandes | C13: 51106 | E13: 971.17 | I13: 1998 | K13: 337 | M13: 0 | O13: 54412.17 | Q13: 51106 | R13: 0 | U13: 54412.17
A14: Councillor Kelly Galloway-Sealock | C14: 51198 | E14: 2266.83 | I14: 1860 | K14: 1012 | M14: 0 | O14: 56336.83 | Q14: 51198 | R14: 0 | S14: 10470 | U14: 66806.83
A15: Councillor Paul Singh | C15: 50730 | I15: 2832 | K15: 747 | M15: 1072 | O15: 55381 | Q15: 50730 | R15: 0 | U15: 55381
A16: Councillor Bil Ioannidis | C16: 43738 | E16: 1607.62 | I16: 2294 | K16: 458 | M16: 913 | O16: 49010.62 | Q16: 43738 | R16: 0 | U16: 49010.62
A17: Councillor Zyg Janecki | C17: 49937 | E17: 2489.31 | I17: 2296 | K17: 1115 | M17: 1498 | O17: 57335.31 | Q17: 49937 | R17: 0 | U17: 57335.31
A18: Councillor Frank Etherington | C18: 53565 | I18: 2107 | K18: 386 | M18: 620 | O18: 56678 | Q18: 53565 | R18: 0 | S18: 10095 | U18: 66773
A19: Councillor Sarah Marsh | C19: 47445 | E19: 3816.21 | I19: 1923 | K19: 1045 | M19: 0 | O19: 54229.21 | Q19: #REF! | R19: #REF! | U19: 54229.21
A21: Total | C21: 583184 | E21: 17535.9 | G21: 8284.19 | I21: 23410 | K21: 7754 | M21: 8888 | O21: 649056.09 | Q21: #REF! | R21: #REF! | S21: 31035 | U21: 680091.09

Sheet Remuneration
A1: CORPORATION OF THE CITY OF KITCHENER
A2: Statement of Remuneration and Expenses
A3: =+Period -> #REF!
A6: =+#REF! -> #REF!
A7: Taxable Earnings | B7: =+'Schedule 1'!C8 -> 52367
A8: Non-Taxable Earnings | B8: =+'Schedule 1'!E8 -> 26184
A9: Remuneration | C9: =+SUM(B7:B8) -> 78551
A10: Tickets/Passes | B10: =+Summary!K9 -> 865
A11: Fringe Benefits | B11: =+'Schedule 1'!G8 -> 14815
A12: Car Allowance (taxable) | C12: =+SUM(B10:B12) -> 15680
D13: =+C9+C12 -> 94231
A16: =+#REF! -> #REF!
A17: =+A7 -> Taxable Earnings | B17: =+'Schedule 1'!C9 -> 26941
A18: =+A8 -> Non-Taxable Earnings | B18: =+'Schedule 1'!E9 -> 13471
A19: =+A9 -> Remuneration | C19: =+SUM(B17:B18) -> 40412
A20: =+A10 -> Tickets/Passes | B20: =+'Schedule 1'!#REF! -> #REF!
A21: =+A11 -> Fringe Benefits | B21: =+'Schedule 1'!G9 -> 8422 | C21: =+C19+B20+B21 -> #REF!
D22: =+C19+C21 -> #REF!
A23: =+#REF! -> #REF!
A24: =+A17 -> Taxable Earnings
A25: =+A18 -> Non-Taxable Earnings
A26: =+A19 -> Remuneration
A27: =+A20 -> Tickets/Passes
A28: =+A21 -> Fringe Benefits
A30: =+#REF! -> #REF!
A31: Regualar Taxable Earnings
A32: Non-Taxable Earnings
A34: Taxable Benefits
A35: Non - Taxable Benefits
A38: =+#REF! -> #REF!
A39: Regualar Taxable Earnings
A40: Non-Taxable Earnings
A42: Taxable Benefits
A43: Non - Taxable Benefits
A46: =+#REF! -> #REF!
A47: Regualar Taxable Earnings
A48: Non-Taxable Earnings
A50: Taxable Benefits
A51: Non - Taxable Benefits
A54: =+#REF! -> #REF!
...

Sheet Schedule 1
A1: The Corporation of the City of Kitchener
A2: Statement of Remuneration
A3: For the year ended December 31, 2016
A6: Members of Council | C6: Taxable Remuneration | E6: Non-Taxable Remuneration | G6: Employment Benefits | I6: Total
A8: Mayor Berry Vrbanovic | C8: 52367 | E8: 26184 | G8: 14815 | I8: 93366
A9: Councillor Scott Davey | C9: 26941 | E9: 13471 | G9: 8422 | I9: 48834
A10: Councillor Dave Schnider | C10: 26941 | E10: 13471 | G10: 7035 | I10: 47447
A11: Councillor John Gazzola | C11: 26941 | E11: 13471 | G11: 5406 | I11: 45818
A12: Councillor Yvonne Fernandes | C12: 26941 | E12: 13471 | G12: 10694 | I12: 51106
A13: Councillor Kelly Galloway-Sealock | C13: 26941 | E13: 13471 | G13: 10786 | I13: 51198
A14: Councillor Paul Singh | C14: 26941 | E14: 13471 | G14: 10318 | I14: 50730
A15: Councillor Bil Ioannidis | C15: 26941 | E15: 13471 | G15: 3326 | I15: 43738
A16: Councillor Zyg Janecki | C16: 26941 | E16: 13471 | G16: 9525 | I16: 49937
A17: Councillor Frank Etherington | C17: 26941 | E17: 13471 | G17: 13153 | I17: 53565
A18: Councillor Sarah Marsh | C18: 26941 | E18: 13471 | G18: 7033 | I18: 47445
A20: Total Remuneration | C20: 321777 | E20: 160894 | G20: 100513 | I20: 583184
A23: Note:
A24: Employment benefits consist of costs such as Canada Pension Plan (CPP), Employer Health Tax (EHT) contributions,
A25: Group Life Insurance benefits, Health and Dental benefits, and RRSP contributions.

Sheet Schedule 2
A1: The Corporation of the City of Kitchener
A2: Conferences and Seminars
A3: For the year ended December 31, 2016
A6: Mayor Berry Vrbanovic
A7: Association of Municipalities of Ontario | C7: 1149.89
A8: Windsor, ON, August 15-16, 2016
C9: 1149.89
A10: Councillor Scott Davey
A11: Siggraph-Computer Graphics & Interactive Techniques | C11: 2760.25
A12: Anaheim, CA, July 24-28, 2016
C13: 2760.25
A14: Councillor John Gazzola
A15: Accent on Planning - Canadian Institute of Planners | C15: 2474.62
A16: Quebec City, QC, July 5-8, 2016
C17: 2474.62
A18: Councillor Yvonne Fernandes
A19: Association of Municipalities of Ontario | C19: 971.17
A20: Markham, ON, August 14-15, 2016
C21: 971.17
A22: Councillor Kelly Galloway-Sealock
A23: Federation of Canadian Municipalities, Annual Conference | C23: 2266.83
A24: Winnipeg, MB, June 2-5, 2016
C25: 2266.83
A26: Councillor Bil Ioannidis
A27: Federation of Canadian Municipalities, Annual Conference | C27: 1607.62
A28: Winnipeg, MB, June 2-5, 2016
C29: 1607.62
A30: Councillor Zyg Janecki
A31: Accent on Planning - Canadian Institute of Planners | C31: 2489.31
A32: Quebec City, QC, July 5-8, 2016
C33: 2489.31
A34: Councillor Sarah Marsh
A35: Library Lab Super Conference | C35: 404.21
A36: Toronto, ON, January 30, 2016
A37: Cities Reducing Poverty Conference | C37: 1816.45
A38: Edmonton, AB, April 5-7, 2016
A39: Association of Municipalities of Ontario | C39: 1595.55
A40: Windsor, ON, August 15-17, 2016
C41: 3816.21
A43: Total Conferences and Seminars | C43: 17535.9

Sheet Schedule 3
A1: The Corporation of the City of Kitchener
A2: Meeting Expenses
A3: For the year ended December 31, 2016
A6: Mayor Berry Vrbanovic
A7: Big City Mayors' Caucus Meeting
A8: Ottawa, ON, February 4-5, 2016 | D8: 1021.08
A9: Winnipeg, MB, June 2-5, 2016 | D9: 1470.25
A10: Ottawa, ON, October 19, 2016 | D10: 734.18
A12: Federation of Canadian Municipalities, Board of Directors Meeting
A13: Ottawa, ON, November 23-25, 2016 | D13: 1297.59
A15: Large Urban Mayors' Caucus of Ontario, Board of Directors Meeting
A16: Ottawa, ON, April 14, 2016 | D16: 898.08
D17: 5421.18
A18: Other - Economic Development
A19: California Mission
A20: Silicon Valley and Los Angeles, CA, April 3-8, 2016 | D20: 2863.01
D21: 2863.01
A23: Total Meeting Expenses | D23: 8284.19

Sheet Schedule 4
A1: The Corporation of the City of Kitchener
A2: Home Office and Technology Expenses
A3: For the year ended December 31, 2016
A6: Members of Council | C6: Operating | E6: Capital | G6: Total
A8: Mayor Berry Vrbanovic | C8: 1992 | G8: 1992
A9: Councillor Scott Davey | C9: 1435 | E9: 206 | G9: 1641
A10: Councillor Dave Schnider | C10: 1051 | E10: 285 | G10: 1336
A11: Councillor John Gazzola | C11: 2500 | E11: 631 | G11: 3131
A12: Councillor Yvonne Fernandes | C12: 1658.43 | E12: 339.87 | G12: 1998
A13: Councillor Kelly Galloway-Sealock | C13: 1529 | E13: 331 | G13: 1860
A14: Councillor Paul Singh | C14: 698 | E14: 2134 | G14: 2832
A15: Councillor Bil Ioannidis | C15: 2192 | E15: 102 | G15: 2294
A16: Councillor Zyg Janecki | C16: 2296.01 | G16: 2296
A17: Councillor Frank Etherington | C17: 2107 | G17: 2107
A18: Councillor Sarah Marsh | C18: 1583 | E18: 340 | G18: 1923
A20: Total Home Office and Technology Expenses | C20: 19041 | E20: 4369 | G20: 23410
A23: Note:
A24: Capital technology expenses may include purchases of furniture, computers, laptops, scanners, printers, etc.
A25: Operating expenses may include office supplies, monthly cell phone charges, home phone, home internet, etc.
A27: A detailed breakdown of Home Office and Technology expenditures can be found at:
A28: http://www.kitchener.ca/en/insidecityhall/remunerationandexpenses.asp

Sheet Schedule 5
A1: The Corporation of the City of Kitchener
A2: Members of Council - Directors of Kitchener-Wilmot Hydro Inc.
A3: and Kitchener Power Corp.
A4: For the year ended December 31, 2016
A7: Members of Council | C7: Remuneration | E7: Meeting Expenses | G7: Total
A9: Directors of Kitchener-Wilmot Hydro Inc.
A10: Mayor Berry Vrbanovic | C10: 4302 | E10: 933 | G10: 5235
C11: 4302 | E11: 933 | G11: 5235
A13: Directors of Kitchener Power Corp.
A14: Mayor Berry Vrbanovic | C14: 4302 | E14: 933 | G14: 5235
A15: Kelly Galloway-Sealock | C15: 8605 | E15: 1865 | G15: 10470
A16: Frank Etherington | C16: 8605 | E16: 1490 | G16: 10095
C17: 21512 | E17: 4288 | G17: 25800

Sheet Schedule 6
A1: The Corporation of the City of Kitchener
A2: Honorariums of Council Appointees
A3: For the year ended December 31, 2016
A6: Council Appointees | F6: Honorariums
A8: Committee of Adjustment
A9: Bhupinder Kohli | F9: 750
A10: Denny Cybalski | F10: 700
A11: Robert McColl | F11: 675
A12: Andrew Head | F12: 650
A13: Jennifer Meader | F13: 375
F14: 3150
A16: Committee of Property Standards
A17: Kevin Young | F17: 600
A18: Karen Taylor - Harrison | F18: 525
A19: Christina Rooney | F19: 450
A20: Margaret Johnston | F20: 375
A21: Terry Boutilier | F21: 150
A22: Michael Pulley | F22: 150
A23: Kirsty Schneider | F23: 150
F24: 2400
A26: Committee of Dog Designation Appeal
A27: Anne Lawrence | F27: 700
